BEGIN:VCALENDAR
VERSION:2.0
PRODID:-//African Hockey Federation - ECPv6.15.20//NONSGML v1.0//EN
CALSCALE:GREGORIAN
METHOD:PUBLISH
X-ORIGINAL-URL:https://www.africahockey.org
X-WR-CALDESC:Events for African Hockey Federation
REFRESH-INTERVAL;VALUE=DURATION:PT1H
X-Robots-Tag:noindex
X-PUBLISHED-TTL:PT1H
BEGIN:VTIMEZONE
TZID:UTC
BEGIN:STANDARD
TZOFFSETFROM:+0000
TZOFFSETTO:+0000
TZNAME:UTC
DTSTART:20260101T000000
END:STANDARD
END:VTIMEZONE
BEGIN:VEVENT
DTSTART;VALUE=DATE:20270110
DTEND;VALUE=DATE:20270201
DTSTAMP:20260423T110604
CREATED:20260331T192220Z
LAST-MODIFIED:20260331T192220Z
UID:17339-1799539200-1801439999@www.africahockey.org
SUMMARY:Africa Cup for Club Champs [ACCC] (37 M & 28 W)
DESCRIPTION:Dates: 10 – 31 January 2027
URL:https://www.africahockey.org/event/africa-cup-for-club-champs-accc-37-m-28-w/
LOCATION:To Be Confirmed
CATEGORIES:AfHF Events
END:VEVENT
END:VCALENDAR