BEGIN:VCALENDAR
VERSION:2.0
PRODID:-//African Hockey Federation - ECPv6.15.20//NONSGML v1.0//EN
CALSCALE:GREGORIAN
METHOD:PUBLISH
X-ORIGINAL-URL:https://www.africahockey.org
X-WR-CALDESC:Events for African Hockey Federation
REFRESH-INTERVAL;VALUE=DURATION:PT1H
X-Robots-Tag:noindex
X-PUBLISHED-TTL:PT1H
BEGIN:VTIMEZONE
TZID:UTC
BEGIN:STANDARD
TZOFFSETFROM:+0000
TZOFFSETTO:+0000
TZNAME:UTC
DTSTART:20250101T000000
END:STANDARD
END:VTIMEZONE
BEGIN:VEVENT
DTSTART;VALUE=DATE:20260806
DTEND;VALUE=DATE:20260809
DTSTAMP:20260423T211005
CREATED:20260227T101243Z
LAST-MODIFIED:20260423T180128Z
UID:6082-1785974400-1786233599@www.africahockey.org
SUMMARY:1st U-18 Hockey5s African Qualifiers
DESCRIPTION:Host: Kenya Hockey Union (KHU) \nVenue: Hillcrest International School\, Karen. \nDate: 6-8 August 2026 (final dates would be decided based on the no. of participating teams per gender and the respective fixtures)
URL:https://www.africahockey.org/event/1st-u-18-hockey5s-african-qualifiers/
LOCATION:Kenya\, Hillcrest International School\, Karen\, Nairobi\, Kenya
CATEGORIES:AfHF Events
END:VEVENT
END:VCALENDAR