BEGIN:VCALENDAR
VERSION:2.0
PRODID:-//African Hockey Federation - ECPv6.15.20//NONSGML v1.0//EN
CALSCALE:GREGORIAN
METHOD:PUBLISH
X-WR-CALNAME:African Hockey Federation
X-ORIGINAL-URL:https://www.africahockey.org
X-WR-CALDESC:Events for African Hockey Federation
REFRESH-INTERVAL;VALUE=DURATION:PT1H
X-Robots-Tag:noindex
X-PUBLISHED-TTL:PT1H
BEGIN:VTIMEZONE
TZID:UTC
BEGIN:STANDARD
TZOFFSETFROM:+0000
TZOFFSETTO:+0000
TZNAME:UTC
DTSTART:20260101T000000
END:STANDARD
END:VTIMEZONE
BEGIN:VEVENT
DTSTART;VALUE=DATE:20270201
DTEND;VALUE=DATE:20270202
DTSTAMP:20260423T110053
CREATED:20260331T192349Z
LAST-MODIFIED:20260331T192349Z
UID:17342-1801440000-1801526399@www.africahockey.org
SUMMARY:Junior Africa Cup [JAC] 2027 (M/W)
DESCRIPTION:Proposed date: February 2027 – venue to be confirmed.
URL:https://www.africahockey.org/event/junior-africa-cup-jac-2027-m-w/
LOCATION:To Be Confirmed
CATEGORIES:AfHF Events
END:VEVENT
END:VCALENDAR